BEGIN:VCALENDAR
VERSION:2.0
PRODID:-//NAPCAN - ECPv6.15.14//NONSGML v1.0//EN
CALSCALE:GREGORIAN
METHOD:PUBLISH
X-ORIGINAL-URL:https://www.napcan.org.au
X-WR-CALDESC:Events for NAPCAN
REFRESH-INTERVAL;VALUE=DURATION:PT1H
X-Robots-Tag:noindex
X-PUBLISHED-TTL:PT1H
BEGIN:VTIMEZONE
TZID:Australia/Sydney
BEGIN:STANDARD
TZOFFSETFROM:+1100
TZOFFSETTO:+1000
TZNAME:AEST
DTSTART:20180331T160000
END:STANDARD
BEGIN:DAYLIGHT
TZOFFSETFROM:+1000
TZOFFSETTO:+1100
TZNAME:AEDT
DTSTART:20181006T160000
END:DAYLIGHT
BEGIN:STANDARD
TZOFFSETFROM:+1100
TZOFFSETTO:+1000
TZNAME:AEST
DTSTART:20190406T160000
END:STANDARD
BEGIN:DAYLIGHT
TZOFFSETFROM:+1000
TZOFFSETTO:+1100
TZNAME:AEDT
DTSTART:20191005T160000
END:DAYLIGHT
BEGIN:STANDARD
TZOFFSETFROM:+1100
TZOFFSETTO:+1000
TZNAME:AEST
DTSTART:20200404T160000
END:STANDARD
BEGIN:DAYLIGHT
TZOFFSETFROM:+1000
TZOFFSETTO:+1100
TZNAME:AEDT
DTSTART:20201003T160000
END:DAYLIGHT
END:VTIMEZONE
BEGIN:VEVENT
DTSTART;TZID=Australia/Sydney:20191019T100000
DTEND;TZID=Australia/Sydney:20191026T170000
DTSTAMP:20260422T125638
CREATED:20190902T053933Z
LAST-MODIFIED:20190902T053933Z
UID:10000749-1571479200-1572109200@www.napcan.org.au
SUMMARY:Children's Voice Art Exhibition
DESCRIPTION:Port Augusta  children  have used art to express “What is important to them”.
URL:https://www.napcan.org.au/event/childrens-voice-art-exhibition-3/
LOCATION:Yarta Purtli Art Gallery 6 Beauchamp Lane  Port Augusta SA 5700\, 6 Beauchamp Lane\, Port Augusta\, 5700
CATEGORIES:SA
ATTACH;FMTTYPE=image/png:https://www.napcan.org.au/wp-content/uploads/2019/08/ART-1.png
GEO:-32.4914743;137.762928
X-APPLE-STRUCTURED-LOCATION;VALUE=URI;X-ADDRESS=Yarta Purtli Art Gallery 6 Beauchamp Lane  Port Augusta SA 5700 6 Beauchamp Lane Port Augusta 5700;X-APPLE-RADIUS=500;X-TITLE=6 Beauchamp Lane:geo:137.762928,-32.4914743
END:VEVENT
END:VCALENDAR